Package: adductomicsR Version: 1.22.0 Command: /Library/Frameworks/R.framework/Resources/bin/R CMD check --install=check:adductomicsR.install-out.txt --library=/Library/Frameworks/R.framework/Resources/library --no-vignettes --timings adductomicsR_1.22.0.tar.gz StartedAt: 2025-01-30 23:58:40 -0500 (Thu, 30 Jan 2025) EndedAt: 2025-01-31 00:06:18 -0500 (Fri, 31 Jan 2025) EllapsedTime: 458.4 seconds RetCode: 0 Status: WARNINGS CheckDir: adductomicsR.Rcheck Warnings: 1