Package: adductomicsR Version: 1.22.0 Command: /home/biocbuild/bbs-3.20-bioc/R/bin/R CMD check --install=check:adductomicsR.install-out.txt --library=/home/biocbuild/bbs-3.20-bioc/R/site-library --timings adductomicsR_1.22.0.tar.gz StartedAt: 2025-01-30 19:46:39 -0500 (Thu, 30 Jan 2025) EndedAt: 2025-01-30 19:52:28 -0500 (Thu, 30 Jan 2025) EllapsedTime: 349.5 seconds RetCode: 0 Status: WARNINGS CheckDir: adductomicsR.Rcheck Warnings: 1