Package: adductomicsR Version: 1.22.0 Command: /home/biocbuild/bbs-3.20-bioc/R/bin/R CMD INSTALL adductomicsR StartedAt: 2025-01-30 15:41:11 -0500 (Thu, 30 Jan 2025) EndedAt: 2025-01-30 15:41:40 -0500 (Thu, 30 Jan 2025) EllapsedTime: 29.1 seconds RetCode: 0 Status: OK