Package: adductomicsR Version: 1.22.0 Command: chmod a+r adductomicsR -R && F:\biocbuild\bbs-3.20-bioc\R\bin\R.exe CMD build --keep-empty-dirs --no-resave-data adductomicsR StartedAt: 2025-01-30 17:12:13 -0500 (Thu, 30 Jan 2025) EndedAt: 2025-01-30 17:14:10 -0500 (Thu, 30 Jan 2025) EllapsedTime: 117.4 seconds RetCode: 0 Status: OK PackageFile: adductomicsR_1.22.0.tar.gz PackageFileSize: 751.9 KiB