Package: adductomicsR Version: 1.22.0 Command: F:\biocbuild\bbs-3.20-bioc\R\bin\R.exe CMD check --no-multiarch --install=check:adductomicsR.install-out.txt --library=F:\biocbuild\bbs-3.20-bioc\R\library --no-vignettes --timings adductomicsR_1.22.0.tar.gz StartedAt: 2025-01-30 23:13:55 -0500 (Thu, 30 Jan 2025) EndedAt: 2025-01-30 23:18:16 -0500 (Thu, 30 Jan 2025) EllapsedTime: 261.1 seconds RetCode: 0 Status: WARNINGS CheckDir: adductomicsR.Rcheck Warnings: 1