Package: adductomicsR Version: 1.22.0 Command: F:\biocbuild\bbs-3.20-bioc\R\bin\R.exe CMD INSTALL adductomicsR StartedAt: 2025-01-30 15:54:54 -0500 (Thu, 30 Jan 2025) EndedAt: 2025-01-30 15:56:56 -0500 (Thu, 30 Jan 2025) EllapsedTime: 122.2 seconds RetCode: 0 Status: OK