Package: adductomicsR Version: 1.22.0 Command: /home/biocbuild/R/R/bin/R CMD INSTALL adductomicsR StartedAt: 2025-01-30 20:48:18 -0000 (Thu, 30 Jan 2025) EndedAt: 2025-01-30 20:48:48 -0000 (Thu, 30 Jan 2025) EllapsedTime: 30.3 seconds RetCode: 0 Status: OK