Package: adverSCarial Version: 1.4.0 Command: rm -rf adverSCarial.buildbin-libdir && mkdir adverSCarial.buildbin-libdir && /Users/biocbuild/BBS/utils/build-universal.sh adverSCarial_1.4.0.tar.gz /Library/Frameworks/R.framework/Resources/bin/R adverSCarial.buildbin-libdir StartedAt: 2025-02-12 13:58:04 -0500 (Wed, 12 Feb 2025) EndedAt: 2025-02-12 13:58:10 -0500 (Wed, 12 Feb 2025) EllapsedTime: 5.7 seconds RetCode: 0 Status: OK PackageFile: adverSCarial_1.4.0.tgz PackageFileSize: 364.3 KiB