Package: adverSCarial Version: 1.4.0 Command: /Library/Frameworks/R.framework/Resources/bin/R CMD build --keep-empty-dirs --no-resave-data adverSCarial StartedAt: 2025-02-03 18:27:21 -0500 (Mon, 03 Feb 2025) EndedAt: 2025-02-03 18:27:35 -0500 (Mon, 03 Feb 2025) EllapsedTime: 14.4 seconds RetCode: 0 Status: OK PackageFile: adverSCarial_1.4.0.tar.gz PackageFileSize: 167.6 KiB