Package: adverSCarial Version: 1.4.0 Command: /Library/Frameworks/R.framework/Resources/bin/R CMD INSTALL adverSCarial StartedAt: 2025-02-03 15:19:51 -0500 (Mon, 03 Feb 2025) EndedAt: 2025-02-03 15:20:21 -0500 (Mon, 03 Feb 2025) EllapsedTime: 29.6 seconds RetCode: 0 Status: OK