Package: adverSCarial Version: 1.4.0 Command: /home/biocbuild/bbs-3.20-bioc/R/bin/R CMD build --keep-empty-dirs --no-resave-data --md5 adverSCarial StartedAt: 2025-02-03 16:16:59 -0500 (Mon, 03 Feb 2025) EndedAt: 2025-02-03 16:17:23 -0500 (Mon, 03 Feb 2025) EllapsedTime: 24.1 seconds RetCode: 0 Status: OK PackageFile: adverSCarial_1.4.0.tar.gz PackageFileSize: 168.6 KiB