Package: adverSCarial Version: 1.4.0 Command: rm -rf adverSCarial.buildbin-libdir && mkdir adverSCarial.buildbin-libdir && F:\biocbuild\bbs-3.20-bioc\R\bin\R.exe CMD INSTALL --build --library=adverSCarial.buildbin-libdir adverSCarial_1.4.0.tar.gz StartedAt: 2025-02-11 07:51:59 -0500 (Tue, 11 Feb 2025) EndedAt: 2025-02-11 07:52:39 -0500 (Tue, 11 Feb 2025) EllapsedTime: 40.2 seconds RetCode: 0 Status: OK PackageFile: adverSCarial_1.4.0.zip PackageFileSize: 380.9 KiB