Package: adverSCarial Version: 1.4.0 Command: chmod a+r adverSCarial -R && F:\biocbuild\bbs-3.20-bioc\R\bin\R.exe CMD build --keep-empty-dirs --no-resave-data adverSCarial StartedAt: 2025-02-10 17:18:29 -0500 (Mon, 10 Feb 2025) EndedAt: 2025-02-10 17:19:26 -0500 (Mon, 10 Feb 2025) EllapsedTime: 56.6 seconds RetCode: 0 Status: OK PackageFile: adverSCarial_1.4.0.tar.gz PackageFileSize: 168.6 KiB