Package: adverSCarial Version: 1.4.0 Command: F:\biocbuild\bbs-3.20-bioc\R\bin\R.exe CMD INSTALL adverSCarial StartedAt: 2025-02-03 16:05:51 -0500 (Mon, 03 Feb 2025) EndedAt: 2025-02-03 16:06:10 -0500 (Mon, 03 Feb 2025) EllapsedTime: 19.8 seconds RetCode: 0 Status: OK