Package: adverSCarial Version: 1.4.0 Command: /home/biocbuild/R/R/bin/R CMD build --keep-empty-dirs --no-resave-data adverSCarial StartedAt: 2025-02-03 21:32:06 -0000 (Mon, 03 Feb 2025) EndedAt: 2025-02-03 21:32:39 -0000 (Mon, 03 Feb 2025) EllapsedTime: 33.0 seconds RetCode: 0 Status: OK PackageFile: adverSCarial_1.4.0.tar.gz PackageFileSize: 167.6 KiB