Package: affyContam Version: 1.64.0 Command: /Library/Frameworks/R.framework/Resources/bin/R CMD INSTALL affyContam StartedAt: 2025-02-03 15:20:50 -0500 (Mon, 03 Feb 2025) EndedAt: 2025-02-03 15:20:57 -0500 (Mon, 03 Feb 2025) EllapsedTime: 7.0 seconds RetCode: 0 Status: OK