Package: affyContam Version: 1.64.0 Command: /home/biocbuild/R/R/bin/R CMD build --keep-empty-dirs --no-resave-data affyContam StartedAt: 2024-11-19 22:41:38 -0000 (Tue, 19 Nov 2024) EndedAt: 2024-11-19 22:41:56 -0000 (Tue, 19 Nov 2024) EllapsedTime: 18.0 seconds RetCode: 0 Status: OK PackageFile: affyContam_1.64.0.tar.gz PackageFileSize: 498.1 KiB