Package: affyContam Version: 1.64.0 Command: rm -rf affyContam.buildbin-libdir && mkdir affyContam.buildbin-libdir && /Users/biocbuild/BBS/utils/build-universal.sh affyContam_1.64.0.tar.gz /Library/Frameworks/R.framework/Resources/bin/R affyContam.buildbin-libdir StartedAt: 2025-02-04 12:25:50 -0500 (Tue, 04 Feb 2025) EndedAt: 2025-02-04 12:25:59 -0500 (Tue, 04 Feb 2025) EllapsedTime: 9.5 seconds RetCode: 0 Status: OK PackageFile: affyContam_1.64.0.tgz PackageFileSize: 303.8 KiB