Package: affyContam Version: 1.64.0 Command: /Library/Frameworks/R.framework/Resources/bin/R CMD build --keep-empty-dirs --no-resave-data affyContam StartedAt: 2025-02-03 16:58:31 -0500 (Mon, 03 Feb 2025) EndedAt: 2025-02-03 16:59:05 -0500 (Mon, 03 Feb 2025) EllapsedTime: 34.0 seconds RetCode: 0 Status: OK PackageFile: affyContam_1.64.0.tar.gz PackageFileSize: 503.8 KiB