Package: affyContam Version: 1.64.0 Command: /Library/Frameworks/R.framework/Resources/bin/R CMD check --install=check:affyContam.install-out.txt --library=/Library/Frameworks/R.framework/Resources/library --no-vignettes --timings affyContam_1.64.0.tar.gz StartedAt: 2025-02-03 23:29:34 -0500 (Mon, 03 Feb 2025) EndedAt: 2025-02-03 23:31:04 -0500 (Mon, 03 Feb 2025) EllapsedTime: 90.8 seconds RetCode: 0 Status: OK CheckDir: affyContam.Rcheck Warnings: 0