Package: affyContam Version: 1.64.0 Command: rm -rf affyContam.buildbin-libdir && mkdir affyContam.buildbin-libdir && F:\biocbuild\bbs-3.20-bioc\R\bin\R.exe CMD INSTALL --build --library=affyContam.buildbin-libdir affyContam_1.64.0.tar.gz StartedAt: 2025-02-04 07:56:00 -0500 (Tue, 04 Feb 2025) EndedAt: 2025-02-04 07:56:13 -0500 (Tue, 04 Feb 2025) EllapsedTime: 12.4 seconds RetCode: 0 Status: OK PackageFile: affyContam_1.64.0.zip PackageFileSize: 216.5 KiB