Package: affyContam Version: 1.64.0 Command: F:\biocbuild\bbs-3.20-bioc\R\bin\R.exe CMD INSTALL affyContam StartedAt: 2025-02-03 15:40:11 -0500 (Mon, 03 Feb 2025) EndedAt: 2025-02-03 15:40:34 -0500 (Mon, 03 Feb 2025) EllapsedTime: 23.1 seconds RetCode: 0 Status: OK