Package: affyContam Version: 1.64.0 Command: /home/biocbuild/R/R/bin/R CMD check --install=check:affyContam.install-out.txt --library=/home/biocbuild/R/R/site-library --no-vignettes --timings affyContam_1.64.0.tar.gz StartedAt: 2025-01-31 03:42:22 -0000 (Fri, 31 Jan 2025) EndedAt: 2025-01-31 03:43:14 -0000 (Fri, 31 Jan 2025) EllapsedTime: 52.2 seconds RetCode: 0 Status: OK CheckDir: affyContam.Rcheck Warnings: 0