Package: affyILM Version: 1.58.0 Command: /Library/Frameworks/R.framework/Resources/bin/R CMD INSTALL affyILM StartedAt: 2025-02-03 15:30:50 -0500 (Mon, 03 Feb 2025) EndedAt: 2025-02-03 15:30:57 -0500 (Mon, 03 Feb 2025) EllapsedTime: 7.0 seconds RetCode: 0 Status: OK