Package: affyILM Version: 1.58.0 Command: /Library/Frameworks/R.framework/Resources/bin/R CMD build --keep-empty-dirs --no-resave-data affyILM StartedAt: 2025-02-03 16:58:45 -0500 (Mon, 03 Feb 2025) EndedAt: 2025-02-03 17:00:22 -0500 (Mon, 03 Feb 2025) EllapsedTime: 97.2 seconds RetCode: 0 Status: OK PackageFile: affyILM_1.58.0.tar.gz PackageFileSize: 233.4 KiB