Package: affyILM Version: 1.58.0 Command: chmod a+r affyILM -R && F:\biocbuild\bbs-3.20-bioc\R\bin\R.exe CMD build --keep-empty-dirs --no-resave-data affyILM StartedAt: 2025-02-03 17:25:30 -0500 (Mon, 03 Feb 2025) EndedAt: 2025-02-03 17:26:44 -0500 (Mon, 03 Feb 2025) EllapsedTime: 73.9 seconds RetCode: 0 Status: OK PackageFile: affyILM_1.58.0.tar.gz PackageFileSize: 122.6 KiB