Package: affyILM Version: 1.58.0 Command: F:\biocbuild\bbs-3.20-bioc\R\bin\R.exe CMD INSTALL affyILM StartedAt: 2025-02-03 15:54:02 -0500 (Mon, 03 Feb 2025) EndedAt: 2025-02-03 15:54:32 -0500 (Mon, 03 Feb 2025) EllapsedTime: 29.3 seconds RetCode: 0 Status: OK