Package: affyILM Version: 1.58.0 Command: /home/biocbuild/R/R/bin/R CMD INSTALL affyILM StartedAt: 2025-02-03 20:31:12 -0000 (Mon, 03 Feb 2025) EndedAt: 2025-02-03 20:31:28 -0000 (Mon, 03 Feb 2025) EllapsedTime: 15.3 seconds RetCode: 0 Status: OK