Package: affyPLM Version: 1.82.0 Command: /Library/Frameworks/R.framework/Resources/bin/R CMD build --keep-empty-dirs --no-resave-data affyPLM StartedAt: 2025-02-03 16:58:49 -0500 (Mon, 03 Feb 2025) EndedAt: 2025-02-03 17:03:41 -0500 (Mon, 03 Feb 2025) EllapsedTime: 292.1 seconds RetCode: 0 Status: OK PackageFile: affyPLM_1.82.0.tar.gz PackageFileSize: 6.292 MiB