Package: affyPLM Version: 1.82.0 Command: /Library/Frameworks/R.framework/Resources/bin/R CMD check --install=check:affyPLM.install-out.txt --library=/Library/Frameworks/R.framework/Resources/library --no-vignettes --timings affyPLM_1.82.0.tar.gz StartedAt: 2025-01-31 00:00:31 -0500 (Fri, 31 Jan 2025) EndedAt: 2025-01-31 00:06:24 -0500 (Fri, 31 Jan 2025) EllapsedTime: 352.8 seconds RetCode: 0 Status: OK CheckDir: affyPLM.Rcheck Warnings: 0