Package: affyPLM Version: 1.82.0 Command: /home/biocbuild/bbs-3.20-bioc/R/bin/R CMD build --keep-empty-dirs --no-resave-data --md5 affyPLM StartedAt: 2025-02-03 16:17:21 -0500 (Mon, 03 Feb 2025) EndedAt: 2025-02-03 16:19:13 -0500 (Mon, 03 Feb 2025) EllapsedTime: 112.1 seconds RetCode: 0 Status: OK PackageFile: affyPLM_1.82.0.tar.gz PackageFileSize: 7.162 MiB