Package: affyPLM Version: 1.82.0 Command: /home/biocbuild/bbs-3.20-bioc/R/bin/R CMD INSTALL affyPLM StartedAt: 2025-02-03 15:21:29 -0500 (Mon, 03 Feb 2025) EndedAt: 2025-02-03 15:21:48 -0500 (Mon, 03 Feb 2025) EllapsedTime: 18.9 seconds RetCode: 0 Status: OK