Package: affyPLM Version: 1.82.0 Command: rm -rf affyPLM.buildbin-libdir && mkdir affyPLM.buildbin-libdir && F:\biocbuild\bbs-3.20-bioc\R\bin\R.exe CMD INSTALL --build --library=affyPLM.buildbin-libdir affyPLM_1.82.0.tar.gz StartedAt: 2025-02-04 07:56:16 -0500 (Tue, 04 Feb 2025) EndedAt: 2025-02-04 07:57:47 -0500 (Tue, 04 Feb 2025) EllapsedTime: 91.1 seconds RetCode: 0 Status: OK PackageFile: affyPLM_1.82.0.zip PackageFileSize: 2.747 MiB