Package: affyPLM Version: 1.82.0 Command: chmod a+r affyPLM -R && F:\biocbuild\bbs-3.20-bioc\R\bin\R.exe CMD build --keep-empty-dirs --no-resave-data affyPLM StartedAt: 2025-01-30 17:13:14 -0500 (Thu, 30 Jan 2025) EndedAt: 2025-01-30 17:17:23 -0500 (Thu, 30 Jan 2025) EllapsedTime: 249.1 seconds RetCode: 0 Status: OK PackageFile: affyPLM_1.82.0.tar.gz PackageFileSize: 4.565 MiB