Package: affyPLM Version: 1.82.0 Command: F:\biocbuild\bbs-3.20-bioc\R\bin\R.exe CMD check --no-multiarch --install=check:affyPLM.install-out.txt --library=F:\biocbuild\bbs-3.20-bioc\R\library --no-vignettes --timings affyPLM_1.82.0.tar.gz StartedAt: 2025-02-03 23:02:04 -0500 (Mon, 03 Feb 2025) EndedAt: 2025-02-03 23:04:57 -0500 (Mon, 03 Feb 2025) EllapsedTime: 172.8 seconds RetCode: 0 Status: WARNINGS CheckDir: affyPLM.Rcheck Warnings: 1