Package: affyPLM Version: 1.82.0 Command: /home/biocbuild/R/R/bin/R CMD build --keep-empty-dirs --no-resave-data affyPLM StartedAt: 2025-01-30 21:27:55 -0000 (Thu, 30 Jan 2025) EndedAt: 2025-01-30 21:29:59 -0000 (Thu, 30 Jan 2025) EllapsedTime: 124.1 seconds RetCode: 0 Status: OK PackageFile: affyPLM_1.82.0.tar.gz PackageFileSize: 6.397 MiB