Package: affyPLM Version: 1.82.0 Command: /home/biocbuild/R/R/bin/R CMD INSTALL affyPLM StartedAt: 2025-02-03 20:32:01 -0000 (Mon, 03 Feb 2025) EndedAt: 2025-02-03 20:32:27 -0000 (Mon, 03 Feb 2025) EllapsedTime: 26.5 seconds RetCode: 0 Status: OK