Package: affycomp Version: 1.82.0 Command: /Library/Frameworks/R.framework/Resources/bin/R CMD check --install=check:affycomp.install-out.txt --library=/Library/Frameworks/R.framework/Resources/library --no-vignettes --timings affycomp_1.82.0.tar.gz StartedAt: 2025-02-11 10:44:12 -0500 (Tue, 11 Feb 2025) EndedAt: 2025-02-11 10:44:48 -0500 (Tue, 11 Feb 2025) EllapsedTime: 35.8 seconds RetCode: 0 Status: OK CheckDir: affycomp.Rcheck Warnings: 0