Package: affycomp Version: 1.82.0 Command: /Library/Frameworks/R.framework/Resources/bin/R CMD check --install=check:affycomp.install-out.txt --library=/Library/Frameworks/R.framework/Resources/library --no-vignettes --timings affycomp_1.82.0.tar.gz StartedAt: 2024-11-19 19:16:31 -0500 (Tue, 19 Nov 2024) EndedAt: 2024-11-19 19:21:25 -0500 (Tue, 19 Nov 2024) EllapsedTime: 293.9 seconds RetCode: 0 Status: OK CheckDir: affycomp.Rcheck Warnings: 0