Package: affycomp Version: 1.82.0 Command: /Library/Frameworks/R.framework/Resources/bin/R CMD check --install=check:affycomp.install-out.txt --library=/Library/Frameworks/R.framework/Resources/library --no-vignettes --timings affycomp_1.82.0.tar.gz StartedAt: 2025-02-10 23:28:18 -0500 (Mon, 10 Feb 2025) EndedAt: 2025-02-10 23:29:33 -0500 (Mon, 10 Feb 2025) EllapsedTime: 75.0 seconds RetCode: 0 Status: OK CheckDir: affycomp.Rcheck Warnings: 0