Package: affycomp Version: 1.82.0 Command: /home/biocbuild/bbs-3.20-bioc/R/bin/R CMD INSTALL affycomp StartedAt: 2025-02-10 15:12:20 -0500 (Mon, 10 Feb 2025) EndedAt: 2025-02-10 15:12:31 -0500 (Mon, 10 Feb 2025) EllapsedTime: 11.4 seconds RetCode: 0 Status: OK