Package: affycomp Version: 1.82.0 Command: /home/biocbuild/R/R/bin/R CMD check --install=check:affycomp.install-out.txt --library=/home/biocbuild/R/R/site-library --no-vignettes --timings affycomp_1.82.0.tar.gz StartedAt: 2025-02-11 03:36:37 -0000 (Tue, 11 Feb 2025) EndedAt: 2025-02-11 03:37:24 -0000 (Tue, 11 Feb 2025) EllapsedTime: 47.0 seconds RetCode: 0 Status: OK CheckDir: affycomp.Rcheck Warnings: 0