Package: affycomp Version: 1.82.0 Command: /home/biocbuild/R/R/bin/R CMD INSTALL affycomp StartedAt: 2025-02-03 20:22:07 -0000 (Mon, 03 Feb 2025) EndedAt: 2025-02-03 20:22:25 -0000 (Mon, 03 Feb 2025) EllapsedTime: 17.9 seconds RetCode: 0 Status: OK