Package: affycoretools Version: 1.78.0 Command: rm -rf affycoretools.buildbin-libdir && mkdir affycoretools.buildbin-libdir && /Users/biocbuild/BBS/utils/build-universal.sh affycoretools_1.78.0.tar.gz /Library/Frameworks/R.framework/Resources/bin/R affycoretools.buildbin-libdir StartedAt: 2025-02-05 14:44:04 -0500 (Wed, 05 Feb 2025) EndedAt: 2025-02-05 14:45:23 -0500 (Wed, 05 Feb 2025) EllapsedTime: 78.9 seconds RetCode: 0 Status: OK PackageFile: affycoretools_1.78.0.tgz PackageFileSize: 571 KiB