Package: affycoretools Version: 1.78.0 Command: /Library/Frameworks/R.framework/Resources/bin/R CMD check --install=check:affycoretools.install-out.txt --library=/Library/Frameworks/R.framework/Resources/library --no-vignettes --timings affycoretools_1.78.0.tar.gz StartedAt: 2025-02-04 10:52:59 -0500 (Tue, 04 Feb 2025) EndedAt: 2025-02-04 11:00:50 -0500 (Tue, 04 Feb 2025) EllapsedTime: 470.9 seconds RetCode: 0 Status: OK CheckDir: affycoretools.Rcheck Warnings: 0