Package: affycoretools Version: 1.78.0 Command: /Library/Frameworks/R.framework/Resources/bin/R CMD check --install=check:affycoretools.install-out.txt --library=/Library/Frameworks/R.framework/Resources/library --no-vignettes --timings affycoretools_1.78.0.tar.gz StartedAt: 2025-02-10 23:29:30 -0500 (Mon, 10 Feb 2025) EndedAt: 2025-02-10 23:44:11 -0500 (Mon, 10 Feb 2025) EllapsedTime: 880.2 seconds RetCode: 0 Status: OK CheckDir: affycoretools.Rcheck Warnings: 0