Package: affycoretools Version: 1.78.0 Command: /home/biocbuild/bbs-3.20-bioc/R/bin/R CMD INSTALL affycoretools StartedAt: 2025-02-03 15:53:11 -0500 (Mon, 03 Feb 2025) EndedAt: 2025-02-03 15:54:20 -0500 (Mon, 03 Feb 2025) EllapsedTime: 69.0 seconds RetCode: 0 Status: OK