Package: affycoretools Version: 1.78.0 Command: F:\biocbuild\bbs-3.20-bioc\R\bin\R.exe CMD INSTALL affycoretools StartedAt: 2025-02-03 17:01:22 -0500 (Mon, 03 Feb 2025) EndedAt: 2025-02-03 17:03:05 -0500 (Mon, 03 Feb 2025) EllapsedTime: 103.0 seconds RetCode: 0 Status: OK