Package: aggregateBioVar Version: 1.16.0 Command: /Library/Frameworks/R.framework/Resources/bin/R CMD build --keep-empty-dirs --no-resave-data aggregateBioVar StartedAt: 2025-02-03 18:28:52 -0500 (Mon, 03 Feb 2025) EndedAt: 2025-02-03 18:30:19 -0500 (Mon, 03 Feb 2025) EllapsedTime: 86.6 seconds RetCode: 0 Status: OK PackageFile: aggregateBioVar_1.16.0.tar.gz PackageFileSize: 1.216 MiB