Package: aggregateBioVar Version: 1.16.0 Command: /Library/Frameworks/R.framework/Resources/bin/R CMD INSTALL aggregateBioVar StartedAt: 2025-02-03 15:32:34 -0500 (Mon, 03 Feb 2025) EndedAt: 2025-02-03 15:32:48 -0500 (Mon, 03 Feb 2025) EllapsedTime: 13.8 seconds RetCode: 0 Status: OK